BEGIN:VCALENDAR
VERSION:2.0
PRODID:-//NetAuktion//NONSGML NetAuktion//SV
METHOD:PUBLISH
BEGIN:VEVENT
UID:20260421T104309-2035625464-netauktion.se
DTSTAMP:20260421T104309
DTSTART:20090226T014700
DTEND:20090226T015000
SUMMARY:Netauktion objekt 0165-019 Auktionspåminnelse
DESCRIPTION:Länk till objektet du var intresserad av: https://staging.netauktion.se/auktion/produkt/handknuten-matta-persisk-mosel
END:VEVENT
END:VCALENDAR
