BEGIN:VCALENDAR
VERSION:2.0
PRODID:-//NetAuktion//NONSGML NetAuktion//SV
METHOD:PUBLISH
BEGIN:VEVENT
UID:20260421T104440-663055902-netauktion.se
DTSTAMP:20260421T104440
DTSTART:20090226T014300
DTEND:20090226T014600
SUMMARY:Netauktion objekt 0165-027 Auktionspåminnelse
DESCRIPTION:Länk till objektet du var intresserad av: https://staging.netauktion.se/auktion/produkt/akvarell-s-holm-1934
END:VEVENT
END:VCALENDAR
