BEGIN:VCALENDAR
VERSION:2.0
PRODID:-//NetAuktion//NONSGML NetAuktion//SV
METHOD:PUBLISH
BEGIN:VEVENT
UID:20260425T134726-2023302058-netauktion.se
DTSTAMP:20260425T134726
DTSTART:20110226T020300
DTEND:20110226T020600
SUMMARY:Netauktion objekt 0468-081 Auktionspåminnelse
DESCRIPTION:Länk till objektet du var intresserad av: https://staging.netauktion.se/auktion/produkt/vagglampor-taklampa-3
END:VEVENT
END:VCALENDAR
