BEGIN:VCALENDAR
VERSION:2.0
PRODID:-//NetAuktion//NONSGML NetAuktion//SV
METHOD:PUBLISH
BEGIN:VEVENT
UID:20260425T123556-523939043-netauktion.se
DTSTAMP:20260425T123556
DTSTART:20110226T020000
DTEND:20110226T020300
SUMMARY:Netauktion objekt 0468-092 Auktionspåminnelse
DESCRIPTION:Länk till objektet du var intresserad av: https://staging.netauktion.se/auktion/produkt/skrivbordslampa-fran-belid-varde-1095-3
END:VEVENT
END:VCALENDAR
