BEGIN:VCALENDAR
VERSION:2.0
PRODID:-//NetAuktion//NONSGML NetAuktion//SV
METHOD:PUBLISH
BEGIN:VEVENT
UID:20260425T134726-48973804-netauktion.se
DTSTAMP:20260425T134726
DTSTART:20110226T020800
DTEND:20110226T021100
SUMMARY:Netauktion objekt 0468-097 Auktionspåminnelse
DESCRIPTION:Länk till objektet du var intresserad av: https://staging.netauktion.se/auktion/produkt/takarmatur-varde-1400kr-2
END:VEVENT
END:VCALENDAR
