BEGIN:VCALENDAR
VERSION:2.0
PRODID:-//NetAuktion//NONSGML NetAuktion//SV
METHOD:PUBLISH
BEGIN:VEVENT
UID:20260425T135428-64063197-netauktion.se
DTSTAMP:20260425T135428
DTSTART:20110226T020500
DTEND:20110226T020800
SUMMARY:Netauktion objekt 0468-106 Auktionspåminnelse
DESCRIPTION:Länk till objektet du var intresserad av: https://staging.netauktion.se/auktion/produkt/nya-shoppingbags-36
END:VEVENT
END:VCALENDAR
