BEGIN:VCALENDAR
VERSION:2.0
PRODID:-//NetAuktion//NONSGML NetAuktion//SV
METHOD:PUBLISH
BEGIN:VEVENT
UID:20260425T134312-315267018-netauktion.se
DTSTAMP:20260425T134312
DTSTART:20090123T012800
DTEND:20090123T013100
SUMMARY:Netauktion objekt 0017-065 Auktionspåminnelse
DESCRIPTION:Länk till objektet du var intresserad av: https://staging.netauktion.se/auktion/produkt/gangsnittshallare-for-svarv-m3-m20-2
END:VEVENT
END:VCALENDAR
