BEGIN:VCALENDAR
VERSION:2.0
PRODID:-//NetAuktion//NONSGML NetAuktion//SV
METHOD:PUBLISH
BEGIN:VEVENT
UID:20260425T134725-56332150-netauktion.se
DTSTAMP:20260425T134725
DTSTART:20110225T021300
DTEND:20110225T021600
SUMMARY:Netauktion objekt 0760-015 Auktionspåminnelse
DESCRIPTION:Länk till objektet du var intresserad av: https://staging.netauktion.se/auktion/produkt/3st-sektioner-typografimobler-2
END:VEVENT
END:VCALENDAR
