BEGIN:VCALENDAR
VERSION:2.0
PRODID:-//NetAuktion//NONSGML NetAuktion//SV
METHOD:PUBLISH
BEGIN:VEVENT
UID:20260425T134700-407573370-netauktion.se
DTSTAMP:20260425T134700
DTSTART:20110225T022100
DTEND:20110225T022400
SUMMARY:Netauktion objekt 0760-018 Auktionspåminnelse
DESCRIPTION:Länk till objektet du var intresserad av: https://staging.netauktion.se/auktion/produkt/heidelberg-cylinder-tryckpress
END:VEVENT
END:VCALENDAR
