BEGIN:VCALENDAR
VERSION:2.0
PRODID:-//NetAuktion//NONSGML NetAuktion//SV
METHOD:PUBLISH
BEGIN:VEVENT
UID:20260425T123612-1315766965-netauktion.se
DTSTAMP:20260425T123612
DTSTART:20110225T021200
DTEND:20110225T021500
SUMMARY:Netauktion objekt 0760-023 Auktionspåminnelse
DESCRIPTION:Länk till objektet du var intresserad av: https://staging.netauktion.se/auktion/produkt/el-telfer-250kg
END:VEVENT
END:VCALENDAR
