BEGIN:VCALENDAR
VERSION:2.0
PRODID:-//NetAuktion//NONSGML NetAuktion//SV
METHOD:PUBLISH
BEGIN:VEVENT
UID:20260425T134700-619390311-netauktion.se
DTSTAMP:20260425T134700
DTSTART:20110225T022200
DTEND:20110225T022500
SUMMARY:Netauktion objekt 0760-025 Auktionspåminnelse
DESCRIPTION:Länk till objektet du var intresserad av: https://staging.netauktion.se/auktion/produkt/svetsbord
END:VEVENT
END:VCALENDAR
