BEGIN:VCALENDAR
VERSION:2.0
PRODID:-//NetAuktion//NONSGML NetAuktion//SV
METHOD:PUBLISH
BEGIN:VEVENT
UID:20260425T133343-1963231988-netauktion.se
DTSTAMP:20260425T133343
DTSTART:20110225T022900
DTEND:20110225T023200
SUMMARY:Netauktion objekt 0760-031 Auktionspåminnelse
DESCRIPTION:Länk till objektet du var intresserad av: https://staging.netauktion.se/auktion/produkt/svarv-monsun-tison
END:VEVENT
END:VCALENDAR
