BEGIN:VCALENDAR
VERSION:2.0
PRODID:-//NetAuktion//NONSGML NetAuktion//SV
METHOD:PUBLISH
BEGIN:VEVENT
UID:20260425T123557-1484701494-netauktion.se
DTSTAMP:20260425T123557
DTSTART:20110225T022300
DTEND:20110225T022600
SUMMARY:Netauktion objekt 0760-034 Auktionspåminnelse
DESCRIPTION:Länk till objektet du var intresserad av: https://staging.netauktion.se/auktion/produkt/tva-sektioner-plathyllor-med-diverse-innehall
END:VEVENT
END:VCALENDAR
