BEGIN:VCALENDAR
VERSION:2.0
PRODID:-//NetAuktion//NONSGML NetAuktion//SV
METHOD:PUBLISH
BEGIN:VEVENT
UID:20260425T123558-1622637204-netauktion.se
DTSTAMP:20260425T123558
DTSTART:20110225T023100
DTEND:20110225T023400
SUMMARY:Netauktion objekt 0760-043 Auktionspåminnelse
DESCRIPTION:Länk till objektet du var intresserad av: https://staging.netauktion.se/auktion/produkt/bandare-industridammsugare
END:VEVENT
END:VCALENDAR
