BEGIN:VCALENDAR
VERSION:2.0
PRODID:-//NetAuktion//NONSGML NetAuktion//SV
METHOD:PUBLISH
BEGIN:VEVENT
UID:20260425T134726-277957988-netauktion.se
DTSTAMP:20260425T134726
DTSTART:20110225T023400
DTEND:20110225T023700
SUMMARY:Netauktion objekt 0760-048 Auktionspåminnelse
DESCRIPTION:Länk till objektet du var intresserad av: https://staging.netauktion.se/auktion/produkt/reningsstaion-pa-hjul
END:VEVENT
END:VCALENDAR
