BEGIN:VCALENDAR
VERSION:2.0
PRODID:-//NetAuktion//NONSGML NetAuktion//SV
METHOD:PUBLISH
BEGIN:VEVENT
UID:20260425T123556-771664600-netauktion.se
DTSTAMP:20260425T123556
DTSTART:20110225T024000
DTEND:20110225T024300
SUMMARY:Netauktion objekt 0760-054 Auktionspåminnelse
DESCRIPTION:Länk till objektet du var intresserad av: https://staging.netauktion.se/auktion/produkt/kartongtejpare-pa-hjul-1
END:VEVENT
END:VCALENDAR
