BEGIN:VCALENDAR
VERSION:2.0
PRODID:-//NetAuktion//NONSGML NetAuktion//SV
METHOD:PUBLISH
BEGIN:VEVENT
UID:20260425T134726-2030921535-netauktion.se
DTSTAMP:20260425T134726
DTSTART:20110225T024100
DTEND:20110225T024400
SUMMARY:Netauktion objekt 0760-055 Auktionspåminnelse
DESCRIPTION:Länk till objektet du var intresserad av: https://staging.netauktion.se/auktion/produkt/storre-el-motor-2
END:VEVENT
END:VCALENDAR
