BEGIN:VCALENDAR
VERSION:2.0
PRODID:-//NetAuktion//NONSGML NetAuktion//SV
METHOD:PUBLISH
BEGIN:VEVENT
UID:20260425T134725-1801120878-netauktion.se
DTSTAMP:20260425T134725
DTSTART:20110225T025300
DTEND:20110225T025600
SUMMARY:Netauktion objekt 0760-063 Auktionspåminnelse
DESCRIPTION:Länk till objektet du var intresserad av: https://staging.netauktion.se/auktion/produkt/tralador
END:VEVENT
END:VCALENDAR
