BEGIN:VCALENDAR
VERSION:2.0
PRODID:-//NetAuktion//NONSGML NetAuktion//SV
METHOD:PUBLISH
BEGIN:VEVENT
UID:20260425T122905-997287764-netauktion.se
DTSTAMP:20260425T122905
DTSTART:20110225T025500
DTEND:20110225T025800
SUMMARY:Netauktion objekt 0760-067 Auktionspåminnelse
DESCRIPTION:Länk till objektet du var intresserad av: https://staging.netauktion.se/auktion/produkt/verktygslada-med-div-verktyg
END:VEVENT
END:VCALENDAR
