BEGIN:VCALENDAR
VERSION:2.0
PRODID:-//NetAuktion//NONSGML NetAuktion//SV
METHOD:PUBLISH
BEGIN:VEVENT
UID:20260425T134726-1946478636-netauktion.se
DTSTAMP:20260425T134726
DTSTART:20110225T030600
DTEND:20110225T030900
SUMMARY:Netauktion objekt 0760-080 Auktionspåminnelse
DESCRIPTION:Länk till objektet du var intresserad av: https://staging.netauktion.se/auktion/produkt/tre-par-omkladningsskap
END:VEVENT
END:VCALENDAR
