BEGIN:VCALENDAR
VERSION:2.0
PRODID:-//NetAuktion//NONSGML NetAuktion//SV
METHOD:PUBLISH
BEGIN:VEVENT
UID:20260425T134700-422523413-netauktion.se
DTSTAMP:20260425T134700
DTSTART:20110225T033200
DTEND:20110225T033500
SUMMARY:Netauktion objekt 0760-091 Auktionspåminnelse
DESCRIPTION:Länk till objektet du var intresserad av: https://staging.netauktion.se/auktion/produkt/tolv-sektioner-plathyllor-1
END:VEVENT
END:VCALENDAR
