BEGIN:VCALENDAR
VERSION:2.0
PRODID:-//NetAuktion//NONSGML NetAuktion//SV
METHOD:PUBLISH
BEGIN:VEVENT
UID:20260425T134700-1805422599-netauktion.se
DTSTAMP:20260425T134700
DTSTART:20110225T032400
DTEND:20110225T032700
SUMMARY:Netauktion objekt 0760-092 Auktionspåminnelse
DESCRIPTION:Länk till objektet du var intresserad av: https://staging.netauktion.se/auktion/produkt/tolv-sektioner-plathyllor-2
END:VEVENT
END:VCALENDAR
