BEGIN:VCALENDAR
VERSION:2.0
PRODID:-//NetAuktion//NONSGML NetAuktion//SV
METHOD:PUBLISH
BEGIN:VEVENT
UID:20260425T123242-734770889-netauktion.se
DTSTAMP:20260425T123242
DTSTART:20090129T010900
DTEND:20090129T011200
SUMMARY:Netauktion objekt 0143-003 Auktionspåminnelse
DESCRIPTION:Länk till objektet du var intresserad av: https://staging.netauktion.se/auktion/produkt/spelbord-senempire-1800-tal
END:VEVENT
END:VCALENDAR
