BEGIN:VCALENDAR
VERSION:2.0
PRODID:-//NetAuktion//NONSGML NetAuktion//SV
METHOD:PUBLISH
BEGIN:VEVENT
UID:20260425T134348-1906861278-netauktion.se
DTSTAMP:20260425T134348
DTSTART:20090123T024600
DTEND:20090123T024900
SUMMARY:Netauktion objekt 0128-039 Auktionspåminnelse
DESCRIPTION:Länk till objektet du var intresserad av: https://staging.netauktion.se/auktion/produkt/svangbart-vaggfaste-for-platt-tv-37-50-max-50kg
END:VEVENT
END:VCALENDAR
