BEGIN:VCALENDAR
VERSION:2.0
PRODID:-//NetAuktion//NONSGML NetAuktion//SV
METHOD:PUBLISH
BEGIN:VEVENT
UID:20260425T122043-484850593-netauktion.se
DTSTAMP:20260425T122043
DTSTART:20090129T011200
DTEND:20090129T011500
SUMMARY:Netauktion objekt 0143-005 Auktionspåminnelse
DESCRIPTION:Länk till objektet du var intresserad av: https://staging.netauktion.se/auktion/produkt/skap-jugendart-deco-1920-talet
END:VEVENT
END:VCALENDAR
