BEGIN:VCALENDAR
VERSION:2.0
PRODID:-//NetAuktion//NONSGML NetAuktion//SV
METHOD:PUBLISH
BEGIN:VEVENT
UID:20260421T104433-660445603-netauktion.se
DTSTAMP:20260421T104433
DTSTART:20110228T013300
DTEND:20110228T013600
SUMMARY:Netauktion objekt 0777-002 Auktionspåminnelse
DESCRIPTION:Länk till objektet du var intresserad av: https://staging.netauktion.se/auktion/produkt/stor-mangd-pelly-hyllor
END:VEVENT
END:VCALENDAR
