BEGIN:VCALENDAR
VERSION:2.0
PRODID:-//NetAuktion//NONSGML NetAuktion//SV
METHOD:PUBLISH
BEGIN:VEVENT
UID:20260421T102934-120496080-netauktion.se
DTSTAMP:20260421T102934
DTSTART:20110228T011300
DTEND:20110228T011600
SUMMARY:Netauktion objekt 0777-008 Auktionspåminnelse
DESCRIPTION:Länk till objektet du var intresserad av: https://staging.netauktion.se/auktion/produkt/sma-spotlights-defekta-spotlights
END:VEVENT
END:VCALENDAR
