BEGIN:VCALENDAR
VERSION:2.0
PRODID:-//NetAuktion//NONSGML NetAuktion//SV
METHOD:PUBLISH
BEGIN:VEVENT
UID:20260421T103005-904405185-netauktion.se
DTSTAMP:20260421T103005
DTSTART:20110228T010200
DTEND:20110228T010500
SUMMARY:Netauktion objekt 0777-017 Auktionspåminnelse
DESCRIPTION:Länk till objektet du var intresserad av: https://staging.netauktion.se/auktion/produkt/natverks-hdd-nas-server-och-media-server
END:VEVENT
END:VCALENDAR
