BEGIN:VCALENDAR
VERSION:2.0
PRODID:-//NetAuktion//NONSGML NetAuktion//SV
METHOD:PUBLISH
BEGIN:VEVENT
UID:20260421T104431-496196002-netauktion.se
DTSTAMP:20260421T104431
DTSTART:20110228T014400
DTEND:20110228T014700
SUMMARY:Netauktion objekt 0777-022 Auktionspåminnelse
DESCRIPTION:Länk till objektet du var intresserad av: https://staging.netauktion.se/auktion/produkt/visma-lon-600
END:VEVENT
END:VCALENDAR
