BEGIN:VCALENDAR
VERSION:2.0
PRODID:-//NetAuktion//NONSGML NetAuktion//SV
METHOD:PUBLISH
BEGIN:VEVENT
UID:20260421T102935-914360128-netauktion.se
DTSTAMP:20260421T102935
DTSTART:20110228T013900
DTEND:20110228T014200
SUMMARY:Netauktion objekt 0777-027 Auktionspåminnelse
DESCRIPTION:Länk till objektet du var intresserad av: https://staging.netauktion.se/auktion/produkt/vhs-converter-fjarrkontroller-mm
END:VEVENT
END:VCALENDAR
