BEGIN:VCALENDAR
VERSION:2.0
PRODID:-//NetAuktion//NONSGML NetAuktion//SV
METHOD:PUBLISH
BEGIN:VEVENT
UID:20260421T102853-1476387798-netauktion.se
DTSTAMP:20260421T102853
DTSTART:20110228T012500
DTEND:20110228T012800
SUMMARY:Netauktion objekt 0777-033 Auktionspåminnelse
DESCRIPTION:Länk till objektet du var intresserad av: https://staging.netauktion.se/auktion/produkt/logitech-audiostation-express-ipod-hogtalare
END:VEVENT
END:VCALENDAR
