BEGIN:VCALENDAR
VERSION:2.0
PRODID:-//NetAuktion//NONSGML NetAuktion//SV
METHOD:PUBLISH
BEGIN:VEVENT
UID:20260421T102705-40209511-netauktion.se
DTSTAMP:20260421T102705
DTSTART:20110228T014100
DTEND:20110228T014400
SUMMARY:Netauktion objekt 0777-036 Auktionspåminnelse
DESCRIPTION:Länk till objektet du var intresserad av: https://staging.netauktion.se/auktion/produkt/diverse-saker-3
END:VEVENT
END:VCALENDAR
