BEGIN:VCALENDAR
VERSION:2.0
PRODID:-//NetAuktion//NONSGML NetAuktion//SV
METHOD:PUBLISH
BEGIN:VEVENT
UID:20260421T104352-1592569392-netauktion.se
DTSTAMP:20260421T104352
DTSTART:20110228T005800
DTEND:20110228T010100
SUMMARY:Netauktion objekt 0777-040 Auktionspåminnelse
DESCRIPTION:Länk till objektet du var intresserad av: https://staging.netauktion.se/auktion/produkt/minneskortslasare-moss
END:VEVENT
END:VCALENDAR
