BEGIN:VCALENDAR
VERSION:2.0
PRODID:-//NetAuktion//NONSGML NetAuktion//SV
METHOD:PUBLISH
BEGIN:VEVENT
UID:20260425T123242-640729596-netauktion.se
DTSTAMP:20260425T123242
DTSTART:20090129T011700
DTEND:20090129T012000
SUMMARY:Netauktion objekt 0143-008 Auktionspåminnelse
DESCRIPTION:Länk till objektet du var intresserad av: https://staging.netauktion.se/auktion/produkt/bokskap-nyrenassans-1800-talets-slut-3
END:VEVENT
END:VCALENDAR
