BEGIN:VCALENDAR
VERSION:2.0
PRODID:-//NetAuktion//NONSGML NetAuktion//SV
METHOD:PUBLISH
BEGIN:VEVENT
UID:20260421T104438-2021316246-netauktion.se
DTSTAMP:20260421T104438
DTSTART:20110228T010500
DTEND:20110228T010800
SUMMARY:Netauktion objekt 0777-044 Auktionspåminnelse
DESCRIPTION:Länk till objektet du var intresserad av: https://staging.netauktion.se/auktion/produkt/datorvaskor-mm
END:VEVENT
END:VCALENDAR
