BEGIN:VCALENDAR
VERSION:2.0
PRODID:-//NetAuktion//NONSGML NetAuktion//SV
METHOD:PUBLISH
BEGIN:VEVENT
UID:20260425T123255-1358884792-netauktion.se
DTSTAMP:20260425T123255
DTSTART:20090129T010200
DTEND:20090129T010500
SUMMARY:Netauktion objekt 0143-011 Auktionspåminnelse
DESCRIPTION:Länk till objektet du var intresserad av: https://staging.netauktion.se/auktion/produkt/soffbord-och-satsbord
END:VEVENT
END:VCALENDAR
