BEGIN:VCALENDAR
VERSION:2.0
PRODID:-//NetAuktion//NONSGML NetAuktion//SV
METHOD:PUBLISH
BEGIN:VEVENT
UID:20260425T134252-790976808-netauktion.se
DTSTAMP:20260425T134252
DTSTART:20090123T010600
DTEND:20090123T010900
SUMMARY:Netauktion objekt 0130-002 Auktionspåminnelse
DESCRIPTION:Länk till objektet du var intresserad av: https://staging.netauktion.se/auktion/produkt/elektriskt-skrivbord-whiteboard-skap
END:VEVENT
END:VCALENDAR
