BEGIN:VCALENDAR
VERSION:2.0
PRODID:-//NetAuktion//NONSGML NetAuktion//SV
METHOD:PUBLISH
BEGIN:VEVENT
UID:20260425T134312-762656438-netauktion.se
DTSTAMP:20260425T134312
DTSTART:20090123T020900
DTEND:20090123T021200
SUMMARY:Netauktion objekt 0130-003 Auktionspåminnelse
DESCRIPTION:Länk till objektet du var intresserad av: https://staging.netauktion.se/auktion/produkt/5st-skrivbord-ikea
END:VEVENT
END:VCALENDAR
