BEGIN:VCALENDAR
VERSION:2.0
PRODID:-//NetAuktion//NONSGML NetAuktion//SV
METHOD:PUBLISH
BEGIN:VEVENT
UID:20260425T134312-623604425-netauktion.se
DTSTAMP:20260425T134312
DTSTART:20090123T013300
DTEND:20090123T013600
SUMMARY:Netauktion objekt 0130-004 Auktionspåminnelse
DESCRIPTION:Länk till objektet du var intresserad av: https://staging.netauktion.se/auktion/produkt/arbetsstolar-ikea
END:VEVENT
END:VCALENDAR
