BEGIN:VCALENDAR
VERSION:2.0
PRODID:-//NetAuktion//NONSGML NetAuktion//SV
METHOD:PUBLISH
BEGIN:VEVENT
UID:20260425T134312-701294311-netauktion.se
DTSTAMP:20260425T134312
DTSTART:20090123T011800
DTEND:20090123T012100
SUMMARY:Netauktion objekt 0118-008 Auktionspåminnelse
DESCRIPTION:Länk till objektet du var intresserad av: https://staging.netauktion.se/auktion/produkt/6st-fatoljer
END:VEVENT
END:VCALENDAR
