BEGIN:VCALENDAR
VERSION:2.0
PRODID:-//NetAuktion//NONSGML NetAuktion//SV
METHOD:PUBLISH
BEGIN:VEVENT
UID:20260425T134349-1136754152-netauktion.se
DTSTAMP:20260425T134349
DTSTART:20090123T012100
DTEND:20090123T012400
SUMMARY:Netauktion objekt 0118-009 Auktionspåminnelse
DESCRIPTION:Länk till objektet du var intresserad av: https://staging.netauktion.se/auktion/produkt/hangmapsarkivskap
END:VEVENT
END:VCALENDAR
