BEGIN:VCALENDAR
VERSION:2.0
PRODID:-//NetAuktion//NONSGML NetAuktion//SV
METHOD:PUBLISH
BEGIN:VEVENT
UID:20260425T123253-1284770373-netauktion.se
DTSTAMP:20260425T123253
DTSTART:20090128T010900
DTEND:20090128T011200
SUMMARY:Netauktion objekt 0167-002 Auktionspåminnelse
DESCRIPTION:Länk till objektet du var intresserad av: https://staging.netauktion.se/auktion/produkt/fargskak
END:VEVENT
END:VCALENDAR
