BEGIN:VCALENDAR
VERSION:2.0
PRODID:-//NetAuktion//NONSGML NetAuktion//SV
METHOD:PUBLISH
BEGIN:VEVENT
UID:20260425T134105-258674079-netauktion.se
DTSTAMP:20260425T134105
DTSTART:20090128T010200
DTEND:20090128T010500
SUMMARY:Netauktion objekt 0167-005 Auktionspåminnelse
DESCRIPTION:Länk till objektet du var intresserad av: https://staging.netauktion.se/auktion/produkt/tralasyr-grundolja
END:VEVENT
END:VCALENDAR
