BEGIN:VCALENDAR
VERSION:2.0
PRODID:-//NetAuktion//NONSGML NetAuktion//SV
METHOD:PUBLISH
BEGIN:VEVENT
UID:20260425T134312-1324831399-netauktion.se
DTSTAMP:20260425T134312
DTSTART:20090123T010800
DTEND:20090123T011100
SUMMARY:Netauktion objekt 0118-012 Auktionspåminnelse
DESCRIPTION:Länk till objektet du var intresserad av: https://staging.netauktion.se/auktion/produkt/soffa-och-glasbord-mm
END:VEVENT
END:VCALENDAR
