BEGIN:VCALENDAR
VERSION:2.0
PRODID:-//NetAuktion//NONSGML NetAuktion//SV
METHOD:PUBLISH
BEGIN:VEVENT
UID:20260425T123254-1020051332-netauktion.se
DTSTAMP:20260425T123254
DTSTART:20090129T005900
DTEND:20090129T010200
SUMMARY:Netauktion objekt 0170-002 Auktionspåminnelse
DESCRIPTION:Länk till objektet du var intresserad av: https://staging.netauktion.se/auktion/produkt/armband-och-brosch-sterlingsilver-och-emalj
END:VEVENT
END:VCALENDAR
