BEGIN:VCALENDAR
VERSION:2.0
PRODID:-//NetAuktion//NONSGML NetAuktion//SV
METHOD:PUBLISH
BEGIN:VEVENT
UID:20260425T134314-1513399872-netauktion.se
DTSTAMP:20260425T134314
DTSTART:20090123T012000
DTEND:20090123T012300
SUMMARY:Netauktion objekt 0118-013 Auktionspåminnelse
DESCRIPTION:Länk till objektet du var intresserad av: https://staging.netauktion.se/auktion/produkt/3st-skrivbord-i-vinkel
END:VEVENT
END:VCALENDAR
