BEGIN:VCALENDAR
VERSION:2.0
PRODID:-//NetAuktion//NONSGML NetAuktion//SV
METHOD:PUBLISH
BEGIN:VEVENT
UID:20260425T134349-515901785-netauktion.se
DTSTAMP:20260425T134349
DTSTART:20090123T011400
DTEND:20090123T011700
SUMMARY:Netauktion objekt 0118-014 Auktionspåminnelse
DESCRIPTION:Länk till objektet du var intresserad av: https://staging.netauktion.se/auktion/produkt/4st-skrivbordshurtsar
END:VEVENT
END:VCALENDAR
