BEGIN:VCALENDAR
VERSION:2.0
PRODID:-//NetAuktion//NONSGML NetAuktion//SV
METHOD:PUBLISH
BEGIN:VEVENT
UID:20260425T134349-1164095721-netauktion.se
DTSTAMP:20260425T134349
DTSTART:20090123T011300
DTEND:20090123T011600
SUMMARY:Netauktion objekt 0037-042 Auktionspåminnelse
DESCRIPTION:Länk till objektet du var intresserad av: https://staging.netauktion.se/auktion/produkt/bokhyllor
END:VEVENT
END:VCALENDAR
