BEGIN:VCALENDAR
VERSION:2.0
PRODID:-//NetAuktion//NONSGML NetAuktion//SV
METHOD:PUBLISH
BEGIN:VEVENT
UID:20260425T134315-1266199739-netauktion.se
DTSTAMP:20260425T134315
DTSTART:20090123T011700
DTEND:20090123T012000
SUMMARY:Netauktion objekt 0118-015 Auktionspåminnelse
DESCRIPTION:Länk till objektet du var intresserad av: https://staging.netauktion.se/auktion/produkt/4st-jalusiskap
END:VEVENT
END:VCALENDAR
