BEGIN:VCALENDAR
VERSION:2.0
PRODID:-//NetAuktion//NONSGML NetAuktion//SV
METHOD:PUBLISH
BEGIN:VEVENT
UID:20260425T134312-701340146-netauktion.se
DTSTAMP:20260425T134312
DTSTART:20090123T012000
DTEND:20090123T012300
SUMMARY:Netauktion objekt 0118-016 Auktionspåminnelse
DESCRIPTION:Länk till objektet du var intresserad av: https://staging.netauktion.se/auktion/produkt/4st-skrivbord
END:VEVENT
END:VCALENDAR
